BEGIN:VCALENDAR
VERSION:2.0
PRODID:-//MDI - Métiers de l&#039;image - ECPv6.15.18//NONSGML v1.0//EN
CALSCALE:GREGORIAN
METHOD:PUBLISH
X-WR-CALNAME:MDI - Métiers de l&#039;image
X-ORIGINAL-URL:https://mdi-metiers-image.fr
X-WR-CALDESC:Évènements pour MDI - Métiers de l&#039;image
REFRESH-INTERVAL;VALUE=DURATION:PT1H
X-Robots-Tag:noindex
X-PUBLISHED-TTL:PT1H
BEGIN:VTIMEZONE
TZID:Europe/Paris
BEGIN:DAYLIGHT
TZOFFSETFROM:+0100
TZOFFSETTO:+0200
TZNAME:CEST
DTSTART:20250330T010000
END:DAYLIGHT
BEGIN:STANDARD
TZOFFSETFROM:+0200
TZOFFSETTO:+0100
TZNAME:CET
DTSTART:20251026T010000
END:STANDARD
BEGIN:DAYLIGHT
TZOFFSETFROM:+0100
TZOFFSETTO:+0200
TZNAME:CEST
DTSTART:20260329T010000
END:DAYLIGHT
BEGIN:STANDARD
TZOFFSETFROM:+0200
TZOFFSETTO:+0100
TZNAME:CET
DTSTART:20261025T010000
END:STANDARD
BEGIN:DAYLIGHT
TZOFFSETFROM:+0100
TZOFFSETTO:+0200
TZNAME:CEST
DTSTART:20270328T010000
END:DAYLIGHT
BEGIN:STANDARD
TZOFFSETFROM:+0200
TZOFFSETTO:+0100
TZNAME:CET
DTSTART:20271031T010000
END:STANDARD
END:VTIMEZONE
BEGIN:VEVENT
DTSTART;VALUE=DATE:20260425
DTEND;VALUE=DATE:20260501
DTSTAMP:20260421T101100
CREATED:20260222T212555Z
LAST-MODIFIED:20260222T214958Z
UID:176-1777075200-1777593599@mdi-metiers-image.fr
SUMMARY:Formation Business
DESCRIPTION:Test pour la formation business
URL:https://mdi-metiers-image.fr/event/formation-business/
LOCATION:Paris\, 13 rue Pompon\, Paris\, France
END:VEVENT
END:VCALENDAR